BEGIN:VCALENDAR
VERSION:2.0
PRODID:Events Booking
BEGIN:VEVENT
UID:69ed31c691a9b
SUMMARY:Storytelling
DESCRIPTION:In search of why people tell and listen to tales of horror\, st
 ories of savagery and violence the red thread leads us to the beginnings o
 f civilization. Back when fairy tales entertained\, taught and offered fai
 ry tales (comfort) to young and old. Fear is a basic human emotion found i
 n all societies and is reflected in various forms of terror in local\, fol
 k myths\, traditions\, narratives\, fairy tales. Unsatisfied curiosity\, e
 xistential angst and anxiety about the unknown gives way to scary fairy ta
 les and horror stories. It gives man opportunities to explore and experien
 ce fear in conditions of safety.Narrators: Lili Lampreli\, Dimitra Valavan
 i\, Angeliki Beblidaki\, Nikos Blazakis\, Stella Rozaki and Despina Tziaki
LOCATION:The Miracle’s Garden\, 1\, Ρούσου Βουρδουμπά\, S
 plantzia\, Chania\, Municipality of Chania\, Chania Regional Unit\, Region
  of Crete\, 731 32\, Greece
DTSTART:20240921T170000Z
DTEND:20240921T190000Z
DTSTAMP:20240829T135216Z
ORGANIZER;CN=Chaniartoon - International Comic & Animation Festival:MAILTO:
 info@chaniartoonfest.gr
GEO:35.516605;24.022207
X-APPLE-STRUCTURED-LOCATION;VALUE=URI;X-ADDRESS=The Miracle’s Garden\, 1\
 , Ρούσου Βουρδουμπά\, Splantzia\, Chania\, Municipality of
  Chania\, Chania Regional Unit\, Region of Crete\, 731 32\, Greece;X-APPLE
 -RADIUS=72;X-TITLE=Aqueduct - Splantzia:35.516605;24.022207
END:VEVENT
END:VCALENDAR