BEGIN:VCALENDAR
VERSION:2.0
PRODID:Events Booking
BEGIN:VEVENT
UID:69ed1cb36fbae
SUMMARY:Presentation of the comic \"To ptoma\" by Tassos Zafeiriadis\, Yann
 is Palavos\, Thanasis Petrou
DESCRIPTION:Comic creators Tasos Zafeiriadis and Thanasis Petrou and screen
 writer and author Yiannis Palavos discuss and present the journey of the c
 orpse\, which was reissued in 2024. A macabre commentary on urban loneline
 ss by the creators of Gra-Gros\, Tasos Zafeiriadis\, Yiannis Palavos and T
 hanasis Petrou. In an apartment\, the body of an old man is discovered in 
 decay. The funeral home undertaking the funeral is obliged to wait for the
  daughter of the deceased\, who is absent abroad. An office worker will ke
 ep the body overnight until the daughter arrives. Corpse is the story of t
 wo corpses – one in the present and one in the future. About two living 
 people achieve\, each in their way\, what they have wanted all their lives
 : to communicate. A bitterly optimistic comic. (from the back cover of the
  book)
LOCATION:Karnagio\, 8\, Πλατεία Γεωργίου Κατεχάκη\, 
 Kastelli\, Chania\, Municipality of Chania\, Chania Regional Unit\, Region
  of Crete\, 731 32\, Greece
DTSTART:20240928T140000Z
DTEND:20240928T150000Z
DTSTAMP:20240902T031307Z
ORGANIZER;CN=Chaniartoon - International Comic & Animation Festival:MAILTO:
 info@chaniartoonfest.gr
GEO:35.518247;24.02048
X-APPLE-STRUCTURED-LOCATION;VALUE=URI;X-ADDRESS=Karnagio\, 8\, Πλατεί
 α Γεωργίου Κατεχάκη\, Kastelli\, Chania\, Municipality of
  Chania\, Chania Regional Unit\, Region of Crete\, 731 32\, Greece;X-APPLE
 -RADIUS=72;X-TITLE=Theatre Mikis Theodorakis:35.518247;24.02048
END:VEVENT
END:VCALENDAR