BEGIN:VCALENDAR
VERSION:2.0
PRODID:Events Booking
BEGIN:VEVENT
UID:69ed07e4bea3b
SUMMARY:How scary can we look to others?! Deconstructing the horror of ever
 yday communication: Stella Angelaki
DESCRIPTION:What makes some movies so scary? How does the terror we feel wh
 en we see a frightening scene relate to our everyday communication with ea
 ch other?! In this workshop\, we will try to shed light on the embarrassme
 nt\, confusion\, irritation\, and confusion that we often experience in ou
 r daily communication with each other and to approach new ways of expressi
 on through group projects and laughter!
 *Participation in all workshops 
 is free. Instead of a fee\, you can donate stationery (pencils\, erasers\,
  sharpeners\, crayons\, drawing blocks\, etc.)\, which will be donated to 
 the children of the Association of Voluntary Offering and Support “Orizo
 ndas”.
LOCATION:Karnagio\, 8\, Πλατεία Γεωργίου Κατεχάκη\, 
 Kastelli\, Chania\, Municipality of Chania\, Chania Regional Unit\, Region
  of Crete\, 731 32\, Greece
DTSTART:20240925T150000Z
DTEND:20240925T173000Z
DTSTAMP:20240829T080100Z
ORGANIZER;CN=Chaniartoon - International Comic & Animation Festival:MAILTO:
 info@chaniartoonfest.gr
GEO:35.518247;24.02048
X-APPLE-STRUCTURED-LOCATION;VALUE=URI;X-ADDRESS=Karnagio\, 8\, Πλατεί
 α Γεωργίου Κατεχάκη\, Kastelli\, Chania\, Municipality of
  Chania\, Chania Regional Unit\, Region of Crete\, 731 32\, Greece;X-APPLE
 -RADIUS=72;X-TITLE=Theatre Mikis Theodorakis:35.518247;24.02048
END:VEVENT
END:VCALENDAR