BEGIN:VCALENDAR
VERSION:2.0
PRODID:Events Booking
BEGIN:VEVENT
UID:69ed33450e501
SUMMARY:Lexoplastiki of Crete
DESCRIPTION:More than 100 words and expressions in the Cretan dialect are i
 ncluded in the book \"Lexoplastiki of Crete\". The book aims to educate th
 e new generations and raise awareness among the broader public about the c
 ultural heritage of Crete.
 Speaker: Thanos Kyratzis\, Nikos Tsikouras
DTSTART:20240926T150000Z
DTEND:20240926T160000Z
DTSTAMP:20240829T132049Z
ORGANIZER;CN=Chaniartoon - International Comic & Animation Festival:MAILTO:
 info@chaniartoonfest.gr
END:VEVENT
END:VCALENDAR