BEGIN:VCALENDAR
VERSION:2.0
PRODID:Events Booking
BEGIN:VEVENT
UID:69ed32c955a46
SUMMARY:Horror Video Game dubbing: Dimitris Sarlos
DESCRIPTION:Video game dubbing is becoming more and more common. Join us to
  give a Greek voice to a selected excerpt from a famous horror Video Game.
 
 &nbsp\;
 *Participation in all workshops is free. Instead of a fee\, y
 ou can donate stationery (pencils\, erasers\, sharpeners\, crayons\, drawi
 ng blocks\, etc.)\, which will be donated to the children of the Associati
 on of Voluntary Offering and Support “Orizondas”.
DTSTART:20240926T130000Z
DTEND:20240926T150000Z
DTSTAMP:20240829T081125Z
ORGANIZER;CN=Chaniartoon - International Comic & Animation Festival:MAILTO:
 info@chaniartoonfest.gr
END:VEVENT
END:VCALENDAR