BEGIN:VCALENDAR
VERSION:2.0
PRODID:Events Booking
BEGIN:VEVENT
UID:69ed567e96e93
SUMMARY:Color in comics - Technical and aesthetic choices: Thanasis Petrou
DESCRIPTION:During the seminar\, we will refer to the various stages of cre
 ating a comic\, including colouring. We will present the basic characteris
 tics of colours in the visual arts and digital colour models\, while refer
 ence will also be made to basic materials of traditional painting. Afterwa
 rds\, samples of digital coloring will be presented\, but in which traditi
 onal techniques are followed\, as well as samples created with traditional
  means.
LOCATION:Karnagio\, 8\, Πλατεία Γεωργίου Κατεχάκη\, 
 Kastelli\, Chania\, Municipality of Chania\, Chania Regional Unit\, Region
  of Crete\, 731 32\, Greece
DTSTART:20240929T090000Z
DTEND:20240929T100000Z
DTSTAMP:20240829T124014Z
ORGANIZER;CN=Chaniartoon - International Comic & Animation Festival:MAILTO:
 info@chaniartoonfest.gr
GEO:35.518247;24.02048
X-APPLE-STRUCTURED-LOCATION;VALUE=URI;X-ADDRESS=Karnagio\, 8\, Πλατεί
 α Γεωργίου Κατεχάκη\, Kastelli\, Chania\, Municipality of
  Chania\, Chania Regional Unit\, Region of Crete\, 731 32\, Greece;X-APPLE
 -RADIUS=72;X-TITLE=Theatre Mikis Theodorakis:35.518247;24.02048
END:VEVENT
END:VCALENDAR