BEGIN:VCALENDAR
VERSION:2.0
PRODID:Events Booking
BEGIN:VEVENT
UID:69ed1ef0633f6
SUMMARY:Chaniartoon 2024 Exhibitions
DESCRIPTION:Horror Thematic ExhibitionWorks from the books: The Corpse (Zaf
 eiradis\, Palavos\, Petrou)\, Frankenstein (Marion Mousse\, Mary Shelley)\
 , Dead Brother (Eva Poulopoulou)\, Dante's Inferno (Paul Prizzi\, Gaetan B
 rizzi)\, Shadow of Olympus (Thanasis Karabalios\, Nikos Stavrianos) as wel
 l as works by: Mary Kalambalika\, Vangelis Karatarakis\, Nikos Kazantzakis
 \, Zoi Nikoletta Karadimitriou\, Joanna Pupaki\, Panagiotis Liakos\, Konst
 antinos Zygouris\, Silvia Bessero\, Christos Dimitriou\, Alexandros Petaka
 kis\, Christos Karakitsos\, Marios Fokas\, Dimitris Avramopoulos\, Michele
  Ballinger \, Ilias Velonakis\, Iosif Fandel.
 Among Us – 11 Horror Sto
 riesEleven artists create eleven short horror stories. Each approaches the
  concept of horror from a different perspective. Participating artists: Sp
 yros Derveniotis\, Panos Zaharis\, Efi Theodoropoulou\, Nikos Kampasele\, 
 Stavros Kioutsiukis\, Nikos Lagouvardos\, Tasos Maragos\, Alexia Othonaiu\
 , Thanasis Petropoulos\, Yiannis Rouboulias\, Angeliki Salamaliki.
 Tribu
 te to Hugo PrattIn collaboration with the Italian Educational Institute of
  Athens - we present an exhibition-tribute to Hugo Pratt\, one of the worl
 d's greatest comics designers and screenwriters.
 Paper trips in the imag
 ination of Massimo De Vita!An exhibition on the life and work of the legen
 dary Disney artist.
 Tribute to Shintaro KagoWith the main occasion of hi
 s books published by Jemma Press an exhibition dedicated to the great Japa
 nese artist.
 Tribute to Ilan ManouachWorks by the great artist Ilan Mano
 uach\, which are an occasion to create discussions and reflections.
 Exhi
 bition for 10 years of Kare-KareKare Kare\, an insert of the \"Efimerida t
 on Sydakton\" dedicated to comics\, completing 10 years of print and onlin
 e publication\, presents a selection of works by many artists who passed t
 hrough it.
 Tribute to PopeyeFocusing on Bud Sagendorf's Popeye volumes p
 ublished by Mikros Heros\, we await you in an exhibition dedicated to the 
 paper career of the world's most famous sailor. The entire evolution of Po
 peye is captured in a series of characteristic moments of the comics we me
 t in Greece.
 Zorbas – Beautiful green stoneExhibition based on the new
  book by Antonis Nikolopoulos – Soloup\, which is based on the work of N
 ikos Kazantzakis\, Zorbas.
LOCATION:Karnagio\, 8\, Πλατεία Γεωργίου Κατεχάκη\, 
 Kastelli\, Chania\, Municipality of Chania\, Chania Regional Unit\, Region
  of Crete\, 731 32\, Greece
DTSTART:20240920T080000Z
DTEND:20240929T200000Z
DTSTAMP:20240902T085002Z
ORGANIZER;CN=Chaniartoon - International Comic & Animation Festival:MAILTO:
 info@chaniartoonfest.gr
GEO:35.518247;24.02048
X-APPLE-STRUCTURED-LOCATION;VALUE=URI;X-ADDRESS=Karnagio\, 8\, Πλατεί
 α Γεωργίου Κατεχάκη\, Kastelli\, Chania\, Municipality of
  Chania\, Chania Regional Unit\, Region of Crete\, 731 32\, Greece;X-APPLE
 -RADIUS=72;X-TITLE=Theatre Mikis Theodorakis:35.518247;24.02048
END:VEVENT
END:VCALENDAR