BEGIN:VCALENDAR
VERSION:2.0
PRODID:Events Booking
BEGIN:VEVENT
UID:69ed327ca2296
SUMMARY:Nobody Laughs Here Anymore: Πως να φτιάξεις ένα σ
 ουρεαλιστικό comic
DESCRIPTION:Πριν από περίπου ένα χρόνο ο Avram κα
 ι ο Blessed αποφάσισαν να παίξουν το γνωστό 
 σουρεαλιστικό παιχνίδι \"Exquisite Corpse\"\, στο 
 οποίο κάθε συνεργάτης προσθέτει σε μια σ
 ύνθεση με τη σειρά του\, ενώ του επιτρέπε
 ται να δει μόνο το τέλος αυτού που συνέβα
 λε ο προηγούμενος. Ακριβώς όπως το Πινγκ 
 Πονγκ.Μια ερώτηση την ημέρα. Μια απάντησ
 η την ημέρα. Μια σελίδα την ημέρα.Σε αυτό 
 το masterclass\, το δυναμικό δίδυμο Avrablessed θα π
 αρουσιάσει τις μεθόδους εργασίας και τη 
 διαδικασία που οδήγησε στη δημιουργία τ
 ου σουρεαλιστικού graphic novel του Nobody Laughs Here 
 Anymore.Μια ματιά στα παρασκήνια στην παλιά 
 παράδοση του σουρεαλιστικού αφηγηματικ
 ού στυλ.Εισηγητές: Δημήτρης Αβραμόπουλο
 ς\, Μάρκος Ευλογημένος
 &nbsp\;
LOCATION:Karnagio\, 8\, Πλατεία Γεωργίου Κατεχάκη\, 
 Kastelli\, Chania\, Municipality of Chania\, Chania Regional Unit\, Region
  of Crete\, 731 32\, Greece
DTSTART:20240927T150000Z
DTEND:20240927T160000Z
DTSTAMP:20240830T073831Z
ORGANIZER;CN=Chaniartoon - International Comic & Animation Festival:MAILTO:
 info@chaniartoonfest.gr
GEO:35.518247;24.02048
X-APPLE-STRUCTURED-LOCATION;VALUE=URI;X-ADDRESS=Karnagio\, 8\, Πλατεί
 α Γεωργίου Κατεχάκη\, Kastelli\, Chania\, Municipality of
  Chania\, Chania Regional Unit\, Region of Crete\, 731 32\, Greece;X-APPLE
 -RADIUS=72;X-TITLE=Θέατρο Μίκης Θεοδωράκης:35.518247;
 24.02048
END:VEVENT
END:VCALENDAR