BEGIN:VCALENDAR
VERSION:2.0
PRODID:Events Booking
BEGIN:VEVENT
UID:69ed460363810
SUMMARY:Παρουσίαση Βιβλίου: Λεξοπλαστική Κρ
 ήτης: Θάνος Κυρατζής
DESCRIPTION:Στο βιβλίο «Λεξοπλαστική Κρήτης» 
 περιλαμβάνονται περισσότερες από 100 λέξ
 εις και εκφράσεις την κρητικής διαλέκτο
 υ. Το βιβλίο στοχεύει να εκπαιδεύσει τις 
 νέες γενιές και να ευαισθητοποιήσει το ε
 υρύτερο κοινό σχετικά με την πολιτιστικ
 ή κληρονομιά της Κρήτης.  Εισηγητής: Θάνο
 ς Κυρατζής\, Νίκος Τσικούρας
DTSTART:20240926T150000Z
DTEND:20240926T160000Z
DTSTAMP:20240829T132049Z
ORGANIZER;CN=Chaniartoon - International Comic & Animation Festival:MAILTO:
 info@chaniartoonfest.gr
END:VEVENT
END:VCALENDAR